BEGIN:VCALENDAR
VERSION:2.0
PRODID:-//AFF Augsburg - ECPv6.15.20//NONSGML v1.0//EN
CALSCALE:GREGORIAN
METHOD:PUBLISH
X-ORIGINAL-URL:https://aff-augsburg.de/de/
X-WR-CALDESC:Veranstaltungen für AFF Augsburg
REFRESH-INTERVAL;VALUE=DURATION:PT1H
X-Robots-Tag:noindex
X-PUBLISHED-TTL:PT1H
BEGIN:VTIMEZONE
TZID:Europe/Berlin
BEGIN:DAYLIGHT
TZOFFSETFROM:+0100
TZOFFSETTO:+0200
TZNAME:CEST
DTSTART:20250330T010000
END:DAYLIGHT
BEGIN:STANDARD
TZOFFSETFROM:+0200
TZOFFSETTO:+0100
TZNAME:CET
DTSTART:20251026T010000
END:STANDARD
BEGIN:DAYLIGHT
TZOFFSETFROM:+0100
TZOFFSETTO:+0200
TZNAME:CEST
DTSTART:20260329T010000
END:DAYLIGHT
BEGIN:STANDARD
TZOFFSETFROM:+0200
TZOFFSETTO:+0100
TZNAME:CET
DTSTART:20261025T010000
END:STANDARD
BEGIN:DAYLIGHT
TZOFFSETFROM:+0100
TZOFFSETTO:+0200
TZNAME:CEST
DTSTART:20270328T010000
END:DAYLIGHT
BEGIN:STANDARD
TZOFFSETFROM:+0200
TZOFFSETTO:+0100
TZNAME:CET
DTSTART:20271031T010000
END:STANDARD
END:VTIMEZONE
BEGIN:VEVENT
DTSTART;TZID=Europe/Berlin:20260314T140000
DTEND;TZID=Europe/Berlin:20260314T170000
DTSTAMP:20260422T070939
CREATED:20260122T090012Z
LAST-MODIFIED:20260315T132632Z
UID:1446-1773496800-1773507600@aff-augsburg.de
SUMMARY:Malwerkstatt
DESCRIPTION:Aujourd’hui\, on sort les pinceaux et les tubes de peinture. On laisse s’exprimer sa créativité et on fait place aux couleurs.Un atelier peinture ouvert aux enfants de tous âges. Il y aura des activités pour les plus grands comme pour les plus petits\, ainsi que pour tous les niveaux.
URL:https://aff-augsburg.de/de/veranstaltung/atelier-peinture/
LOCATION:Bürgerhaus Pfersee\, Stadtbergerstr. 17\, Augsburg\, 86157\, Germany
CATEGORIES:Kindergruppen,Vergangene
ATTACH;FMTTYPE=image/png:https://aff-augsburg.de/wp-content/uploads/2026/01/Atelier-Peinture1-1.png
END:VEVENT
END:VCALENDAR