BEGIN:VCALENDAR
VERSION:2.0
PRODID:-//AFF Augsburg - ECPv6.15.20//NONSGML v1.0//EN
CALSCALE:GREGORIAN
METHOD:PUBLISH
X-WR-CALNAME:AFF Augsburg
X-ORIGINAL-URL:https://aff-augsburg.de
X-WR-CALDESC:Évènements pour AFF Augsburg
REFRESH-INTERVAL;VALUE=DURATION:PT1H
X-Robots-Tag:noindex
X-PUBLISHED-TTL:PT1H
BEGIN:VTIMEZONE
TZID:Europe/Berlin
BEGIN:DAYLIGHT
TZOFFSETFROM:+0100
TZOFFSETTO:+0200
TZNAME:CEST
DTSTART:20250330T010000
END:DAYLIGHT
BEGIN:STANDARD
TZOFFSETFROM:+0200
TZOFFSETTO:+0100
TZNAME:CET
DTSTART:20251026T010000
END:STANDARD
BEGIN:DAYLIGHT
TZOFFSETFROM:+0100
TZOFFSETTO:+0200
TZNAME:CEST
DTSTART:20260329T010000
END:DAYLIGHT
BEGIN:STANDARD
TZOFFSETFROM:+0200
TZOFFSETTO:+0100
TZNAME:CET
DTSTART:20261025T010000
END:STANDARD
BEGIN:DAYLIGHT
TZOFFSETFROM:+0100
TZOFFSETTO:+0200
TZNAME:CEST
DTSTART:20270328T010000
END:DAYLIGHT
BEGIN:STANDARD
TZOFFSETFROM:+0200
TZOFFSETTO:+0100
TZNAME:CET
DTSTART:20271031T010000
END:STANDARD
END:VTIMEZONE
BEGIN:VEVENT
DTSTART;TZID=Europe/Berlin:20260425T110000
DTEND;TZID=Europe/Berlin:20260425T140000
DTSTAMP:20260425T024955
CREATED:20260317T200437Z
LAST-MODIFIED:20260317T200437Z
UID:1582-1777114800-1777125600@aff-augsburg.de
SUMMARY:Brunch de printemps et bourse aux livres
DESCRIPTION:Nous transformons notre traditionnel repas de printemps en un brunch. \nRendez-vous à partir de 11h à la Bürgerhaus. Le buffet est participatif. Chacun est libre d’apporter ce qu’il souhaite : salades\, pains\, viennoiseries\, gâteaux\, houmous\, fromages… Bref\, tout ce qu’il faut pour faire un brunch gourmand et convivial ! L’AFF se charge des boissons. \nEt qui dit « printemps »\, dit le traditionnel ménage de printemps! C’est l’occasion de faire du tri chez vous et de laisser place aux nouveautés. C’est pourquoi l’AFF organise également une bourse aux livres. Apportez les livres et/ou les jeux de société en français que vous n’utilisez plus afin de les échanger avec les autres membres.
URL:https://aff-augsburg.de/event/brunch-de-printemps-et-bourse-aux-livres/
LOCATION:Bürgerhaus Pfersee\, Stadtbergerstr. 17\, Augsburg\, 86157\, Germany
CATEGORIES:Fêtes familiales,futurs
ATTACH;FMTTYPE=image/png:https://aff-augsburg.de/wp-content/uploads/2026/03/Foret-4-mai-20258.png
END:VEVENT
END:VCALENDAR