BEGIN:VCALENDAR
VERSION:2.0
PRODID:-//AFF Augsburg - ECPv6.15.20//NONSGML v1.0//EN
CALSCALE:GREGORIAN
METHOD:PUBLISH
X-WR-CALNAME:AFF Augsburg
X-ORIGINAL-URL:https://aff-augsburg.de
X-WR-CALDESC:Évènements pour AFF Augsburg
REFRESH-INTERVAL;VALUE=DURATION:PT1H
X-Robots-Tag:noindex
X-PUBLISHED-TTL:PT1H
BEGIN:VTIMEZONE
TZID:Europe/Berlin
BEGIN:DAYLIGHT
TZOFFSETFROM:+0100
TZOFFSETTO:+0200
TZNAME:CEST
DTSTART:20250330T010000
END:DAYLIGHT
BEGIN:STANDARD
TZOFFSETFROM:+0200
TZOFFSETTO:+0100
TZNAME:CET
DTSTART:20251026T010000
END:STANDARD
BEGIN:DAYLIGHT
TZOFFSETFROM:+0100
TZOFFSETTO:+0200
TZNAME:CEST
DTSTART:20260329T010000
END:DAYLIGHT
BEGIN:STANDARD
TZOFFSETFROM:+0200
TZOFFSETTO:+0100
TZNAME:CET
DTSTART:20261025T010000
END:STANDARD
BEGIN:DAYLIGHT
TZOFFSETFROM:+0100
TZOFFSETTO:+0200
TZNAME:CEST
DTSTART:20270328T010000
END:DAYLIGHT
BEGIN:STANDARD
TZOFFSETFROM:+0200
TZOFFSETTO:+0100
TZNAME:CET
DTSTART:20271031T010000
END:STANDARD
END:VTIMEZONE
BEGIN:VEVENT
DTSTART;TZID=Europe/Berlin:20260627T200000
DTEND;TZID=Europe/Berlin:20260628T003000
DTSTAMP:20260422T103327
CREATED:20260407T201103Z
LAST-MODIFIED:20260407T201103Z
UID:1694-1782590400-1782606600@aff-augsburg.de
SUMMARY:French Vibes Party
DESCRIPTION:Plus d’informations en mai!
URL:https://aff-augsburg.de/event/french-vibes-party/
LOCATION:Encore à définir!
CATEGORIES:futurs,Rencontres et soirées
ATTACH;FMTTYPE=image/png:https://aff-augsburg.de/wp-content/uploads/2026/04/Template-French-vibes-party-neutre-1.png
END:VEVENT
END:VCALENDAR