BEGIN:VCALENDAR
VERSION:2.0
PRODID:-//AFF Augsburg - ECPv6.15.20//NONSGML v1.0//EN
CALSCALE:GREGORIAN
METHOD:PUBLISH
X-ORIGINAL-URL:https://aff-augsburg.de
X-WR-CALDESC:Évènements pour AFF Augsburg
REFRESH-INTERVAL;VALUE=DURATION:PT1H
X-Robots-Tag:noindex
X-PUBLISHED-TTL:PT1H
BEGIN:VTIMEZONE
TZID:Europe/Berlin
BEGIN:DAYLIGHT
TZOFFSETFROM:+0100
TZOFFSETTO:+0200
TZNAME:CEST
DTSTART:20250330T010000
END:DAYLIGHT
BEGIN:STANDARD
TZOFFSETFROM:+0200
TZOFFSETTO:+0100
TZNAME:CET
DTSTART:20251026T010000
END:STANDARD
BEGIN:DAYLIGHT
TZOFFSETFROM:+0100
TZOFFSETTO:+0200
TZNAME:CEST
DTSTART:20260329T010000
END:DAYLIGHT
BEGIN:STANDARD
TZOFFSETFROM:+0200
TZOFFSETTO:+0100
TZNAME:CET
DTSTART:20261025T010000
END:STANDARD
BEGIN:DAYLIGHT
TZOFFSETFROM:+0100
TZOFFSETTO:+0200
TZNAME:CEST
DTSTART:20270328T010000
END:DAYLIGHT
BEGIN:STANDARD
TZOFFSETFROM:+0200
TZOFFSETTO:+0100
TZNAME:CET
DTSTART:20271031T010000
END:STANDARD
END:VTIMEZONE
BEGIN:VEVENT
DTSTART;TZID=Europe/Berlin:20260111T140000
DTEND;TZID=Europe/Berlin:20260111T170000
DTSTAMP:20260422T110056
CREATED:20251221T131406Z
LAST-MODIFIED:20260118T133924Z
UID:1338-1768140000-1768150800@aff-augsburg.de
SUMMARY:Galette
DESCRIPTION:Comme chaque année\, nous mangerons ensemble la galette des rois
URL:https://aff-augsburg.de/event/galette/
LOCATION:Bürgerhaus Pfersee\, Stadtbergerstr. 17\, Augsburg\, 86157\, Germany
CATEGORIES:passés
ATTACH;FMTTYPE=image/jpeg:https://aff-augsburg.de/wp-content/uploads/2025/12/galette_aff.jpg
END:VEVENT
BEGIN:VEVENT
DTSTART;TZID=Europe/Berlin:20260128T190000
DTEND;TZID=Europe/Berlin:20260128T213000
DTSTAMP:20260422T110056
CREATED:20260118T211701Z
LAST-MODIFIED:20260203T204853Z
UID:1359-1769626800-1769635800@aff-augsburg.de
SUMMARY:Soirée jeux
DESCRIPTION:On commence l’année 2026 sous le signe du rire\, du jeu et de la convivialité! Rejoignez-nous le mercredi 28 janvier 2026 au Café Tür an Tür pour notre troisième soirée jeux! \nDes jeux pour tous les goûts sont au programme: des plus simples et drôles aux jeux de stratégie plus corsés\, il y aura pour tout le monde. Vous pourrez jouer à des classiques ou découvrir de nouvelles choses. Et si vous avez des jeux sympas à la maison\, n’hesitez pas à les apporter!
URL:https://aff-augsburg.de/event/soiree-jeux/
LOCATION:Café Tür an Tür\, Wertachstr. 29\, Augsburg\, 86153
CATEGORIES:passés,Rencontres et soirées
ATTACH;FMTTYPE=image/png:https://aff-augsburg.de/wp-content/uploads/2026/01/Soiree-jeux-28-01.png
END:VEVENT
END:VCALENDAR